BEGIN:VCALENDAR
VERSION:2.0
PRODID:-//http://www.banyeresdemariolaturisme.com///NONSGML kigkonsult.se iCalcreator 2.10.15//
METHOD:PUBLISH
BEGIN:VEVENT
UID:20260422T190536CEST-0124tdktuv@http://www.banyeresdemariolaturisme.com/
DTSTAMP:20260422T170536Z
DESCRIPTION:&nbsp\;&nbsp\;FESTIVOS 20241 de enero\, Noche Vieja&nbsp\;CERRA
 DO6 de enero\, Epifanía del Señor (Día de Reyes Magos)&nbsp\;CERRADO19 de 
 marzo\, San&nbsp\;José  ABIERTO29 de marzo\, Viernes Santo&nbsp\;ABIERTO 1
  de abril. Lunes de Pascua&nbsp\;CERRADO1 de mayo\, Día del trabajador&nbs
 p\;CERRADO24 de junio. San Juan&nbsp\;CERRADO&nbsp\;15 de agosto\, Asunció
 n de la Madre de Dios&nbsp\;CERRADO9 de octubre\, Día de la Comunitat Vale
 nciana CERRADO12 de octubre\, Fiesta Nacional de España&nbsp\;ABIERTO1 de 
 noviembre\, Día de Todos los Santos&nbsp\;CERRADO (Asistencia Fira de Tots
  Sants)6 de diciembre\, Día de la Constitución&nbsp\;ABIERTO8 de diciembre
 \, Día de la Inmaculada Concepción&nbsp\;ABIERTO&nbsp\;25 de diciembre\, N
 avidad&nbsp\;CERRADO&nbsp\;* Recomendamos confirmar si se ha producido alg
 ún cambio en el calendario de apertura previsto a través de WhatsApp 68540
 0884 o en nuestras RRSS @Banyeresturisme&nbsp\;&nbsp\;
DTSTART:20240131T103900Z
DTEND:20251231T123900Z
LOCATION:Banyeres de Mariola  (03450 Banyeres de Mariola\, Alicante\, Españ
 a)
SUMMARY:CALENDARIO FESTIVOS 2024
END:VEVENT
END:VCALENDAR
