BEGIN:VCALENDAR
VERSION:2.0
PRODID:-//http://www.banyeresdemariolaturisme.com///NONSGML kigkonsult.se iCalcreator 2.10.15//
METHOD:PUBLISH
BEGIN:VEVENT
UID:20260421T094435CEST-7613HUcaVb@http://www.banyeresdemariolaturisme.com/
DTSTAMP:20260421T074435Z
DESCRIPTION:&nbsp\;Main events programhttps://issuu.com/ajuntament-banyeres
 -de-mariola/docs/programa_de_festes_de_sant_jordi_2022&nbsp\;&nbsp\;&nbsp\
 ;&nbsp\;&nbsp\;
DTSTART:20220314T134500Z
DTEND:20221231T154500Z
LOCATION:Banyeres de Mariola  (03450 Banyeres de Mariola\, Alicante\, Españ
 a)
SUMMARY:Moors and Christians's Festival 2022
END:VEVENT
END:VCALENDAR
