BEGIN:VCALENDAR
VERSION:2.0
PRODID:-//http://www.banyeresdemariolaturisme.com///NONSGML kigkonsult.se iCalcreator 2.10.15//
METHOD:PUBLISH
BEGIN:VEVENT
UID:20260425T142936CEST-2729iPfdXE@http://www.banyeresdemariolaturisme.com/
DTSTAMP:20260425T122936Z
DESCRIPTION:&nbsp\;Promoción del calendario festivo en honor a San Jorge. B
 anyeres de Mariola 2020. Con la colaboración de Turisme Comunitat Valencia
 na&nbsp\;&nbsp\;
DTSTART:20200302T141000Z
DTEND:20201231T161000Z
LOCATION:Banyeres de Mariola  (03450 Banyeres de Mariola\, Alicante\, Españ
 a)
SUMMARY:Banyeres\, per un 100% Festes d'Interés Turístic
END:VEVENT
END:VCALENDAR
