BEGIN:VCALENDAR
VERSION:2.0
PRODID:-//http://www.banyeresdemariolaturisme.com///NONSGML kigkonsult.se iCalcreator 2.10.15//
METHOD:PUBLISH
BEGIN:VEVENT
UID:20260425T235341CEST-7633sULLnh@http://www.banyeresdemariolaturisme.com/
DTSTAMP:20260425T215341Z
DESCRIPTION:&nbsp\;Festes de Moros i Cristians en honor de Sant Jordi. Es c
 elebren del 22 al 25 d'abril.&nbsp\;En el fullet adjunt apareix tota la in
 formació de les festes actes en honor a Sant Jordi&nbsp\;
DTSTART:20250404T125700Z
DTEND:20251231T155700Z
LOCATION:Banyeres de Mariola  (03450 Banyeres de Mariola\, Alicante\, Españ
 a)
SUMMARY:Programa de ma Festes de Moros i Cristians en honor de Sant Jordi  
 2025
END:VEVENT
END:VCALENDAR
