BEGIN:VCALENDAR
VERSION:2.0
PRODID:-//http://www.banyeresdemariolaturisme.com///NONSGML kigkonsult.se iCalcreator 2.10.15//
METHOD:PUBLISH
BEGIN:VEVENT
UID:20260425T235343CEST-19801uEpl9@http://www.banyeresdemariolaturisme.com/
DTSTAMP:20260425T215343Z
DESCRIPTION:&nbsp\;FESTES 2020 AJORNADES PER COVID-19PUNXA ACÍ PER VEURE EL
  PROGRAMA DE FESTES DE MOROS I CRISTIANS EN HONOR A SANT JORDI 2020:&nbsp\
 ; https://issuu.com/ajuntament-banyeres-de-mariola/stacks/2a50a6d886a14e85
 be23a379af3ee93a&nbsp\;Banyeres\, per un 100% Festes d'interès turístic!!!
  Promociò del calendari festiu en honor a Sant Jordi amb la col·laboració 
 de Turisme Comunitat Valenciana.
DTSTART:20200325T134500Z
DTEND:20201231T154500Z
LOCATION:Banyeres de Mariola  (03450 Banyeres de Mariola\, Alicante\, Españ
 a)
SUMMARY:PROGRAMA DE FESTES DE MOROS I CRISTIANS EN HONOR A SANT JORDI 2020
END:VEVENT
END:VCALENDAR
